BEGIN:VCALENDAR
VERSION:2.0
PRODID:Spatie calendar-links
BEGIN:VEVENT
UID:7bf1e2e001909d99cef53c28980a46ad
SUMMARY:BAUM-Tagung 2026
DTSTAMP;TZID=20260909
DTSTART:20260909
DURATION:P1D
X-ALT-DESC;FMTTYPE=text/html:<!-- wp:paragraph -->\n<p>Mit dem Thema „Confiance en Europe – Zuversicht in Europa. Risiken meistern\, Chancen nutzen“ stellt die BAUM-Tagung 2026 die unternehmerische Perspektive auf ein starkes\, wertebasiert agierendes Europa in den Mittelpunkt.</p>\n<!-- /wp:paragraph -->\n\n<!-- wp:paragraph -->\n<p>Unternehmen\, Politik\, Wissenschaft und Zivilgesellschaft kommen zusammen\, um Herausforderungen konstruktiv anzugehen und konkrete Lösungen für nachhaltiges Wirtschaften zu entwickeln. Als interaktives Lösungslabor eröffnet die Tagung Raum für Austausch\, neue Perspektiven und konkrete Schritte für nachhaltiges Wirtschaften in Europa.</p>\n<!-- /wp:paragraph -->\n\n<!-- wp:paragraph -->\n<p>Auf der Tagung erwarten dich fundierte Einblicke in aktuelle Nachhaltigkeitsthemen\, die Möglichkeit\, sich mit Unternehmenspraktiker:innen und Expert:innen auszutauschen\, und interaktive Formate\, die Raum für neue Ideen und Kooperationen schaffen.<br>Darüber hinaus kannst du:</p>\n<!-- /wp:paragraph -->\n\n<!-- wp:list -->\n<ul class="wp-block-list"><!-- wp:list-item -->\n<li>eigene Anliegen einbringen und gemeinsam mit anderen Teilnehmenden Antworten auf drängende Fragen aus der Praxis entwickeln\;</li>\n<!-- /wp:list-item -->\n\n<!-- wp:list-item -->\n<li>von den Transformationsgeschichten unserer Preisträger:innen lernen und neue Impulse für deine eigene Arbeit mitnehmen\;</li>\n<!-- /wp:list-item -->\n\n<!-- wp:list-item -->\n<li>Teil einer engagierten Community werden\, die sich seit über vier Jahrzehnten für eine zukunftsfähige Wirtschaft einsetzt\;</li>\n<!-- /wp:list-item -->\n\n<!-- wp:list-item -->\n<li>beim Speed Networking und Projektmatching schnell und unkompliziert neue Kontakte knüpfen\;</li>\n<!-- /wp:list-item -->\n\n<!-- wp:list-item -->\n<li>den Europa-Park an den Veranstaltungstagen ab 17:00 Uhr kostenlos besuchen.</li>\n<!-- /wp:list-item --></ul>\n<!-- /wp:list -->\n\n<!-- wp:paragraph -->\n<p><strong>Wann\, wie\, wo?</strong><br>Datum: 9.- 10. September 2026<br>Ort: Europa-Park\, Rust</p>\n<!-- /wp:paragraph -->\n\n<!-- wp:paragraph -->\n<p>Wir sind zum ersten Mal Netzwerkpartner der BAUM Tagung. Bitte nutzt bei Anmeldung unseren <strong>Code: CSR-Verband</strong></p>\n<!-- /wp:paragraph -->\n\n<!-- wp:paragraph -->\n<p>Weitere Informationen zum <a href="https://baumev.de/baum-tagung/programm/" target="_blank" rel="noreferrer noopener">Programm findest du auf der Website >>></a></p>\n<!-- /wp:paragraph -->\n\n<!-- wp:paragraph -->\n<p><em>Bild und Text: Baum e.V.</em><br><br></p>\n<!-- /wp:paragraph -->
LOCATION:Europa-Park\, Europa-Park-Straße 2\, 77977 Rust
END:VEVENT
END:VCALENDAR