BEGIN:VCALENDAR
VERSION:2.0
PRODID:Spatie calendar-links
BEGIN:VEVENT
UID:f02d530fc1e3f16e36fe93f3ce1e2a2b
SUMMARY:15. ZNU-Zukunftskonferenz
DTSTAMP;TZID=Europe/Berlin:20260506T100000
DTSTART;TZID=Europe/Berlin:20260506T100000
DTEND;TZID=Europe/Berlin:20260507T130000
X-ALT-DESC;FMTTYPE=text/html:<!-- wp:heading {"level":3} -->\n<h3 class="wp-block-heading">Neustart Nachhaltigkeit – Unternehmerisch. Wirksam. Gestalten.</h3>\n<!-- /wp:heading -->\n\n<!-- wp:paragraph -->\n<p>Die ZNU-Zukunftskonferenz 2026 bringt Entscheider\, Experten und Praktiker zusammen\, um Nachhaltigkeit neu zu denken – praxisnah\, unternehmerisch und zukunftsorientiert. Zwei Tage voller frischer Impulse\, Workshops und Networking rund um zentrale Zukunftsthemen erwarten euch. </p>\n<!-- /wp:paragraph -->\n\n<!-- wp:paragraph -->\n<p>Freut euch auf DFB-Präsident Bernd Neuendorf zur Relevanz von Nachhaltigkeit im Sport und auf weitere Impulse hochrangiger Speaker aus dem Bereich Investments (cusp capital) und Kreditvergabe (Sparkasse Osnabrück und Deutsche Bank). </p>\n<!-- /wp:paragraph -->\n\n<!-- wp:paragraph -->\n<p>Steigert eure wirtschaftliche Wettbewerbsfähigkeit und profitiert von praxisnahen Themen-Workshops zu Dekarbonisierung\, Biodiversität\, Kreislaufwirtschaft\, Gesundheit\, Menschenrechte\, Reporting &amp\; Finanzen\, Digitalisierung &amp\; KI\, Bildung\, Innovation in der Mobilität und Fortschrittskommunikation.</p>\n<!-- /wp:paragraph -->\n\n<!-- wp:paragraph -->\n<p><strong>Wann\, wie\, wo?</strong><br>Datum: 06. &amp\; 07. Mai 2026<br>Ort: Zeche Zollverein\, Essen</p>\n<!-- /wp:paragraph -->\n\n<!-- wp:paragraph -->\n<p>Für unsere Community gibt es einen Rabatt auf die Tickets (Standardpreis 950Euro zzgl. 19% MwSt.). <br>Wähle dazu einfach die <strong>Ticketkategorie Hochschul-/ Verbands-/ NGO-Ticket</strong> (445 Euro zzgl. 19% MwSt.)</p>\n<!-- /wp:paragraph -->\n\n<!-- wp:paragraph -->\n<p><em>Bild / Text: ZNU </em></p>\n<!-- /wp:paragraph -->\n\n<!-- wp:paragraph -->\n<p></p>\n<!-- /wp:paragraph -->
LOCATION:Zeche Zollverein\, Gelsenkirchener Str. 181\, Essen
END:VEVENT
END:VCALENDAR