BEGIN:VCALENDAR
VERSION:2.0
PRODID:Spatie calendar-links
BEGIN:VEVENT
UID:ff26e2099c888b47a4bf606ccd12f9ee
SUMMARY:18. CSR together
DTSTAMP;TZID=Europe/Berlin:20260622T110000
DTSTART;TZID=Europe/Berlin:20260622T110000
DTEND;TZID=Europe/Berlin:20260622T123000
X-ALT-DESC;FMTTYPE=text/html:<!-- wp:paragraph -->\n<p>Weitere Informationen folgen - wir arbeiten aktuell noch am Programm. </p>\n<!-- /wp:paragraph -->\n\n<!-- wp:paragraph -->\n<p>📅 <strong>Termin:</strong> Montag\, 22. Juni 2026<br>🕕 <strong>Uhrzeit:</strong> 11:00 – 12:30 Uhr<br>📍 <strong>Ort:</strong> Online via Zoom</p>\n<!-- /wp:paragraph -->\n\n<!-- wp:paragraph -->\n<p>Für Mitglieder des CSR Verbands ist die Veranstaltung kostenfrei.</p>\n<!-- /wp:paragraph -->\n\n<!-- wp:paragraph -->\n<p>Du bist (noch) kein Mitglied bei uns willst aber dennoch am CSR together teilnehmen? Kein Problem. Für dich beträgt der Beitrag für dieses Event 19\,90 Euro. Keine Zeit um am Event teilzunehmen? Melde dich trotzdem an und erhalte im Nachgang die Aufzeichnung.&nbsp\;</p>\n<!-- /wp:paragraph -->\n\n<!-- wp:paragraph -->\n<p><em>Anmeldung ab dem 11. Mai 2026 möglich. Die Veranstaltung wird aufgezeichnet.</em></p>\n<!-- /wp:paragraph -->\n\n<!-- wp:paragraph -->\n<p></p>\n<!-- /wp:paragraph -->
LOCATION:-
END:VEVENT
END:VCALENDAR