BEGIN:VCALENDAR
VERSION:2.0
PRODID:Spatie calendar-links
BEGIN:VEVENT
UID:75748e73259f89c4c2ae8623d560615f
SUMMARY:Nachhaltigkeit neu denken. Erfolg neu gestalten.
DTSTAMP;TZID=Europe/Berlin:20260429T170000
DTSTART;TZID=Europe/Berlin:20260429T170000
DTEND;TZID=Europe/Berlin:20260429T183000
X-ALT-DESC;FMTTYPE=text/html:<!-- wp:heading {"level":4} -->\n<h4 class="wp-block-heading">17. CSR together mit Patrick Bungard</h4>\n<!-- /wp:heading -->\n\n<!-- wp:paragraph -->\n<p>Wie du mit Hybrider Intelligenz aus Nachhaltigkeitsthemen echte Wettbewerbsvorteile machst.</p>\n<!-- /wp:paragraph -->\n\n<!-- wp:paragraph -->\n<p>Du weißt es längst: Nachhaltigkeit und unternehmerischer Erfolg gehören zusammen. Aber wie überzeugst du Führungskräfte und Teams davon – mit Argumenten\, die wirklich ankommen? Genau darum geht es in diesem CSR together.</p>\n<!-- /wp:paragraph -->\n\n<!-- wp:paragraph -->\n<p>Als Berufsverband für Nachhaltigkeitsmanager:innen ist es unser Anspruch\, dir praxisnahes Wissen zu vermitteln\, das du direkt in deiner täglichen Arbeit einsetzen kannst. Dieses Webinar greift ein Thema auf\, das auch in unserem aktuellen <a href="http://www.csr-verband.org/#whitepaper" target="_blank" rel="noreferrer noopener">Whitepaper </a>eine zentrale Rolle spielt: Hybride Intelligenz als Schlüssel für erfolgreiches Nachhaltigkeitsmanagement.</p>\n<!-- /wp:paragraph -->\n\n<!-- wp:paragraph -->\n<p>Das erwartet dich:</p>\n<!-- /wp:paragraph -->\n\n<!-- wp:list -->\n<ul class="wp-block-list"><!-- wp:list-item -->\n<li><strong>Impuls</strong>: Patrick Bungard zeigt dir\, wie Hybride Intelligenz funktioniert: Die Auswertungsgeschwindigkeit von KI trifft auf dein Fach- und Kontextwissen. Das Ergebnis sind konkrete unternehmerische Chancen und Potenziale\, die du sofort in deiner Organisation einsetzen kannst – und die sich direkt in die doppelte Wesentlichkeitsanalyse einbringen lassen.</li>\n<!-- /wp:list-item -->\n\n<!-- wp:list-item -->\n<li><strong>Anwendungsbeispiel</strong>: Anhand eines praxisnahen Beispiels erlebst du\, wie der Ansatz in der Realität funktioniert und welche Wirkung er entfalten kann.</li>\n<!-- /wp:list-item -->\n\n<!-- wp:list-item -->\n<li><strong>Diskussion</strong>: Deine Fragen und Erfahrungen sind ausdrücklich willkommen. Im gemeinsamen Austausch entstehen die wertvollsten Impulse.</li>\n<!-- /wp:list-item --></ul>\n<!-- /wp:list -->\n\n<!-- wp:paragraph -->\n<p>Speaker: <strong>Patrick Bungard</strong><br>Patrick Bungard ist Mitbegründer und CEO von Tetranomics SE sowie Co-Chair für Economics and Sustainability an der Parmenides Stiftung. Seit über 20 Jahren begleitet er Unternehmen und Non-Profit-Organisationen dabei\, Zukunftschancen in gesellschaftlichen Herausforderungen zu erkennen. Er gilt als Mitentwickler der Hybriden Intelligenz und der Konvergenzthese und ist als Dozent an renommierten Hochschulen tätig.</p>\n<!-- /wp:paragraph -->\n\n<!-- wp:paragraph -->\n<p>Alle Infos auf einen Blick:<br>📅&nbsp\;Termin:&nbsp\;Mittwoch\, 29. April 2026<br>🕕&nbsp\;Uhrzeit:&nbsp\;17:00 – 18:30 Uhr<br>📍&nbsp\;Ort:&nbsp\;Online via Zoom</p>\n<!-- /wp:paragraph -->\n\n<!-- wp:paragraph -->\n<p>Nach deiner Teilnahme erhältst du ein Teilnahmezertifikat – ein schöner Nachweis für deine kontinuierliche Weiterbildung als Nachhaltigkeitsmanager:in.</p>\n<!-- /wp:paragraph -->\n\n<!-- wp:paragraph -->\n<p>Du bist (noch) kein Mitglied\, möchtest aber trotzdem dabei sein? Kein Problem – für dich beträgt der Beitrag 19\,90 Euro.<br>Keine Zeit\, live dabei zu sein? Melde dich trotzdem an und erhalte im Nachgang die Aufzeichnung.</p>\n<!-- /wp:paragraph -->\n\n<!-- wp:shortcode -->\n[ip_login_register_redirect buy_label="Kostenpflichtige Anmeldung" products="IP-PD-0151" show_qty="" qty_products="IP-PD-0151" redirect="https://sustainabilitypioneers.net/veranstaltung/17-csr-together"]\n<!-- /wp:shortcode -->\n\n<!-- wp:paragraph -->\n<p>Für Mitglieder des CSR Verbands ist die Teilnahme kostenfrei.</p>\n<!-- /wp:paragraph -->\n\n<!-- wp:paragraph -->\n<p></p>\n<!-- /wp:paragraph -->
LOCATION:-
END:VEVENT
END:VCALENDAR