BEGIN:VCALENDAR
VERSION:2.0
PRODID:Spatie calendar-links
BEGIN:VEVENT
UID:89b937416bc0975e871a99f73c985e2e
SUMMARY:Online Zertifikatslehrgang: Sustainability Transformation Manager
DTSTAMP;TZID=20250910
DTSTART:20250910
DURATION:P1D
X-ALT-DESC;FMTTYPE=text/html:<!-- wp:paragraph -->\n<p>Als Führungskraft\, Nachhaltigkeitsverantwortlicher und Unternehmer stehst du vor der Herausforderung\, Nachhaltigkeit als strategische Chance zu nutzen. Die zunehmende Komplexität und die Erwartungen von Kunden\, Mitarbeitenden und Investoren machen die <strong>Transformation zur Nachhaltigen Wirtschaft zur Überlebensfrage für Unternehmen.</strong><br>Laut dem <a href="https://reports.weforum.org/docs/WEF_Future_of_Jobs_Report_2025.pdf" target="_blank" rel="noreferrer noopener">WEF (World Economic Forum) </a>gehören Kompetenzen für die Nachhaltigkeitstransformation mit zu den am stärksten nachgefragten Qualifikationen von zukunftsorientierten Unternehmen.<br>Unser <strong>Sustainability Transformation Manager-Programm</strong> bietet dir eine fundierte Weiterbildung\, um Nachhaltigkeit als strategisches Werkzeug zu nutzen.</p>\n<!-- /wp:paragraph -->\n\n<!-- wp:paragraph -->\n<p>Deine Vorteile auf einen Blick:</p>\n<!-- /wp:paragraph -->\n\n<!-- wp:list -->\n<ul class="wp-block-list"><!-- wp:list-item -->\n<li><strong>Individuelle Unterstützung bei deinen Herausforderungen:</strong><br>Fünf Job-Support-Sitzungen und praxisorientierte Module helfen dir\, deine unternehmerischen Ziele direkt umzusetzen.</li>\n<!-- /wp:list-item -->\n\n<!-- wp:list-item -->\n<li><strong>Interaktives Lernen in Kleingruppen:</strong><br>Mit maximal 20 Teilnehmenden schaffst du in einem dynamischen Umfeld echte Fortschritte. Interaktive Übungen sorgen dafür\, dass das Gelernte direkt in die Praxis übergeht.</li>\n<!-- /wp:list-item -->\n\n<!-- wp:list-item -->\n<li><strong>Topaktuelle Inhalte:</strong><br>Tägliche Lernimpulse und innovative Micro-Lerneinheiten verankern das Wissen nachhaltig und machen es sofort anwendbar.</li>\n<!-- /wp:list-item -->\n\n<!-- wp:list-item -->\n<li><strong>Lernen von einem erfahrenen Trainerteam:</strong><br>Über 40 Jahre Erfahrung im Bereich nachhaltiges Wirtschaften und Transformation – fundiertes Wissen trifft auf praxiserprobte Methoden.</li>\n<!-- /wp:list-item -->\n\n<!-- wp:list-item -->\n<li><strong>Beruflicher und persönlicher Fortschritt:</strong><br>Du stärkst dein Beratungsportfolio\, positionierst dich als Expertin und kommst in deiner Karriere einen großen Schritt voran.</li>\n<!-- /wp:list-item --></ul>\n<!-- /wp:list -->\n\n<!-- wp:paragraph -->\n<p>Und das ganze machen wir mit viel Freude\, starken Verbindungen und Herz.</p>\n<!-- /wp:paragraph -->\n\n<!-- wp:paragraph -->\n<p><em>Mitglieder des CSR Verbandes erhalten 10% Rabatt auf die Kursgebühr. </em></p>\n<!-- /wp:paragraph -->\n\n<!-- wp:paragraph -->\n<p>Text und Bild: Transform academy</p>\n<!-- /wp:paragraph -->
LOCATION:-
END:VEVENT
END:VCALENDAR